BEGIN:VCALENDAR
VERSION:2.0
PRODID:-//
CALSCALE:GREGORIAN
X-WR-TIMEZONE:Europe/Berlin
BEGIN:VEVENT
LOCATION:Brückenstern\, Stresemannstraße 133\, 22769\, Hamburg\, Germany
DESCRIPTION:Stilistische Offenheit\, ausgeklügelte Themen und Raum für Improvisation sind die Parameter in Wendlers Musik. • Frank Delle (s) · Tom Wendler (trb) · Lucas Klapp (p) · Melanie Streitmatter (b) · Tobias Fronhöfer (dr)
DTSTART:20260624T200000
DTEND:20260624T220000
SUMMARY:Tom Wendler Quartett feat. Frank Delle
URL;VALUE=URI:
DTSTAMP:20260421T170837
UID:69e7af1573fa5
END:VEVENT
END:VCALENDAR