BEGIN:VCALENDAR
VERSION:2.0
PRODID:-//
CALSCALE:GREGORIAN
X-WR-TIMEZONE:Europe/Berlin
BEGIN:VEVENT
LOCATION:White Cube Bergedorf\, Kurt-A.-Körber-Chaussee 73\, 21033\, Hamburg\, Germany
DESCRIPTION:musikalische Verzweigung zweier Welten · verbindet argentinische Folklore mit neuen Klängen aus dem Jazz · harmonische Verschmelzung verschiedener kultureller Einflüsse • Armando (trp) · Kota (git) · Peter (p) · Florian (b) · Francisco (dr)
DTSTART:20260704T200000
DTEND:20260704T220000
SUMMARY:Lucas Dorado – El Sueño
URL;VALUE=URI:https://whitecube-bergedorf.de/index.php?id=3
DTSTAMP:20260421T170859
UID:69e7af2b33c77
END:VEVENT
END:VCALENDAR