BEGIN:VCALENDAR
VERSION:2.0
PRODID:-//
CALSCALE:GREGORIAN
X-WR-TIMEZONE:Europe/Berlin
BEGIN:VEVENT
LOCATION:Brückenstern\, Stresemannstraße 133\, 22769\, Hamburg\, Germany
DESCRIPTION:Die drei Musiker spielen in zahlreichen Gruppen mit unterschiedlichen Konzepten – von freier bis hin zu komponierter Musik. • Luís Vicente (trp) · John Hughes (b) · Chad Popple (dr\, perc)
DTSTART:20260701T200000
DTEND:20260701T220000
SUMMARY:Vicente | Hughes | Popple
URL;VALUE=URI:
DTSTAMP:20260421T164122
UID:69e7a8b2739eb
END:VEVENT
END:VCALENDAR