BEGIN:VCALENDAR
VERSION:2.0
PRODID:-//
CALSCALE:GREGORIAN
X-WR-TIMEZONE:Europe/Berlin
BEGIN:VEVENT
LOCATION:Brückenstern\, Stresemannstraße 133\, 22769\, Hamburg\, Germany
DESCRIPTION:Warmbluetig ist ein internationales Jazzquartett\, das auf der Interaktion von folkloristischem Storytelling und spontaner Improvisation basiert. • Danica Hobden (git\,comp) · Martín Zamorano (p) · Roz Macdonald (b) · Joshua Weiß (dr)
DTSTART:20260708T200000
DTEND:20260708T220000
SUMMARY:Warmbluetig
URL;VALUE=URI:
DTSTAMP:20260421T173604
UID:69e7b584a4e2f
END:VEVENT
END:VCALENDAR