BEGIN:VCALENDAR
VERSION:2.0
PRODID:-//
CALSCALE:GREGORIAN
X-WR-TIMEZONE:Europe/Berlin
BEGIN:VEVENT
LOCATION:Nica Jazz Club\, Alter Wall 20\, 20457\, Hamburg\, Germany
DESCRIPTION:Ungewöhnliche Stereobilder\, rohe Energie und bewusste Unperfektion lassen der Musik Raum zum Atmen. So entfaltet Web Web eine intensive\, fast psychedelische Kraft – Jazz nicht als Genre\, sondern als gelebte Haltung im Moment. • Tony Lakatos (fl\, sax) · Roberto Di Gioia (p\, keys) · Christian von Kaphengst (b) · Peter Gall (dr)
DTSTART:20260616T200000
DTEND:20260616T220000
SUMMARY:Web Web
URL;VALUE=URI:https://nica-jazzclub.de/de/events/web-web-444
DTSTAMP:20260421T170843
UID:69e7af1bd05ae
END:VEVENT
END:VCALENDAR