BEGIN:VCALENDAR
VERSION:2.0
PRODID:-//
CALSCALE:GREGORIAN
X-WR-TIMEZONE:Europe/Berlin
BEGIN:VEVENT
LOCATION:Birdland\, Gärtnerstraße 122\, 20253\, Hamburg\, Germany
DESCRIPTION:Straight Ahead. Hard Bop. • Will Reese-Jones (ts) · Win Pongsakorn (trp) · Lorant Aktan (p) · Heinz Tidow (b) · Lu Haozhuo (dr)
DTSTART:20260627T203000
DTEND:20260627T220000
SUMMARY:Will Rees-Jones/Win Pongsakorn Quintet
URL;VALUE=URI:
DTSTAMP:20260421T122021
UID:69e76b85cf679
END:VEVENT
END:VCALENDAR