BEGIN:VCALENDAR
VERSION:2.0
PRODID:-//
CALSCALE:GREGORIAN
X-WR-TIMEZONE:Europe/Berlin
BEGIN:VEVENT
LOCATION:Nica Jazz Club\, Alter Wall 20\, 20457\, Hamburg\, Germany
DESCRIPTION:Ziggy Zeitgeist ist dort zu Hause\, wo Improvisation auf mitreißende Tanzmusik trifft. Hier verschmelzen Synthesizer mit Flöten\, Jazz-Schlagzeug trifft auf die rohe Energie des Broken Beat\, und die Natur wird musikalisch zitiert – in Rufen und Antworten\, ganz wie in einem lebendigen Dialog mit der Welt um uns herum. • Lewis Moody (keys) · Konstantin Diedrichs (b) · Ziggy Zeitgeist (dr)
DTSTART:20260609T200000
DTEND:20260609T220000
SUMMARY:Ziggy Zeitgeist
URL;VALUE=URI:https://nica-jazzclub.de/de/events/ziggy-zeitgeist-459
DTSTAMP:20260421T170837
UID:69e7af15a4b78
END:VEVENT
END:VCALENDAR